BEGIN:VCALENDAR
VERSION:2.0
PRODID:-//http://lakewoodresortcampground.com//NONSGML kigkonsult.se iCalcreator 2.10.23//
METHOD:PUBLISH
X-WR-CALNAME:JCal Pro Calendar
X-WR-CALDESC:Your online events calendar
X-WR-TIMEZONE:America/Chicago
BEGIN:VEVENT
UID:20190704T150000UTC-aaba54@http://lakewoodresortcampground.com/
DTSTAMP:20260420T010635Z
DESCRIPTION:
DTSTART:20190704T000000Z
SUMMARY:Golf Cart Parade
END:VEVENT
END:VCALENDAR
