BEGIN:VCALENDAR
VERSION:2.0
PRODID:-//http://lakewoodresortcampground.com//NONSGML kigkonsult.se iCalcreator 2.10.23//
METHOD:PUBLISH
X-WR-CALNAME:JCal Pro Calendar
X-WR-CALDESC:Your online events calendar
X-WR-TIMEZONE:America/Chicago
BEGIN:VEVENT
UID:20190704T160000UTC-f67535@http://lakewoodresortcampground.com/
DTSTAMP:20260419T205745Z
DESCRIPTION:<p>We will be desinging T-shirts so please don't forget to brin
 g your T-shirt.</p>
DTSTART:20190704T000000Z
SUMMARY:T-shirt Craft
END:VEVENT
END:VCALENDAR
