BEGIN:VCALENDAR
VERSION:2.0
PRODID:-//http://lakewoodresortcampground.com//NONSGML kigkonsult.se iCalcreator 2.10.23//
METHOD:PUBLISH
X-WR-CALNAME:JCal Pro Calendar
X-WR-CALDESC:Your online events calendar
X-WR-TIMEZONE:America/Chicago
BEGIN:VEVENT
UID:20190831T230000UTC-1b167f@http://lakewoodresortcampground.com/
DTSTAMP:20260419T173306Z
DESCRIPTION:<p>Pork shoulders to be provided.  Please bring enouch side dis
 hes to share at the pot luck with everyone.  A good estimate would be enou
 gh to feed your family.</p>
DTSTART:20190831T000000Z
SUMMARY:Labor Day Cook-Out
END:VEVENT
END:VCALENDAR
