BEGIN:VCALENDAR
VERSION:2.0
PRODID:-//http://lakewoodresortcampground.com//NONSGML kigkonsult.se iCalcreator 2.10.23//
METHOD:PUBLISH
X-WR-CALNAME:JCal Pro Calendar
X-WR-CALDESC:Your online events calendar
X-WR-TIMEZONE:America/Chicago
BEGIN:VEVENT
UID:20190608T010000UTC-468408@http://lakewoodresortcampground.com/
DTSTAMP:20260420T043919Z
DESCRIPTION:
DTSTART:20190608T000000Z
SUMMARY:Movie Night on 'The Porch'
END:VEVENT
END:VCALENDAR
