BEGIN:VCALENDAR
VERSION:2.0
PRODID:-//http://lakewoodresortcampground.com//NONSGML kigkonsult.se iCalcreator 2.10.23//
METHOD:PUBLISH
X-WR-CALNAME:JCal Pro Calendar
X-WR-CALDESC:Your online events calendar
X-WR-TIMEZONE:America/Chicago
BEGIN:VEVENT
UID:20120602T050000UTC-f9959d@http://www.lakewoodresortcampground.com/
DTSTAMP:20260420T000822Z
DESCRIPTION:<p>The first weekend in June is always the 400 Mile Yard Sale i
 n Western Kentucky.  Just a friendly reminder from Lakewood Resort Campgro
 und.</p>
DTSTART:20190601T000000Z
SUMMARY:AREA Event:  400 Mile Yard Sale This Weekend
END:VEVENT
BEGIN:VEVENT
UID:20190608T010000UTC-468408@http://lakewoodresortcampground.com/
DTSTAMP:20260420T000822Z
DESCRIPTION:
DTSTART:20190608T000000Z
SUMMARY:Movie Night on 'The Porch'
END:VEVENT
BEGIN:VEVENT
UID:20190609T000000UTC-7eea0e@http://lakewoodresortcampground.com/
DTSTAMP:20260420T000822Z
DESCRIPTION:
DTSTART:20190609T000000Z
SUMMARY:Family Game Night at 'The Porch'
END:VEVENT
END:VCALENDAR
